BEGIN:VCALENDAR
VERSION:2.0
PRODID:-//Master Association Eir - ECPv6.8.3//NONSGML v1.0//EN
CALSCALE:GREGORIAN
METHOD:PUBLISH
X-WR-CALNAME:Master Association Eir
X-ORIGINAL-URL:https://ma-eir.nl
X-WR-CALDESC:Events for Master Association Eir
REFRESH-INTERVAL;VALUE=DURATION:PT1H
X-Robots-Tag:noindex
X-PUBLISHED-TTL:PT1H
BEGIN:VTIMEZONE
TZID:Europe/Paris
BEGIN:DAYLIGHT
TZOFFSETFROM:+0100
TZOFFSETTO:+0200
TZNAME:CEST
DTSTART:20250330T010000
END:DAYLIGHT
BEGIN:STANDARD
TZOFFSETFROM:+0200
TZOFFSETTO:+0100
TZNAME:CET
DTSTART:20251026T010000
END:STANDARD
BEGIN:DAYLIGHT
TZOFFSETFROM:+0100
TZOFFSETTO:+0200
TZNAME:CEST
DTSTART:20260329T010000
END:DAYLIGHT
BEGIN:STANDARD
TZOFFSETFROM:+0200
TZOFFSETTO:+0100
TZNAME:CET
DTSTART:20261025T010000
END:STANDARD
END:VTIMEZONE
BEGIN:VEVENT
DTSTART;TZID=Europe/Paris:20251009T163000
DTEND;TZID=Europe/Paris:20251009T180000
DTSTAMP:20260420T071512
CREATED:20250927T204301Z
LAST-MODIFIED:20250927T204432Z
UID:1685-1760027400-1760032800@ma-eir.nl
SUMMARY:GMM 10
DESCRIPTION:On the 9th of October\, GMM 10 will take place. The GMM will start at 16:30 in Flux 4.251. \nThe documents will be uploaded as soon as possible. Topics discussed will be financial documents\, upcoming board\, and plans for upcoming year!
URL:https://ma-eir.nl/activities/gmm-10/
LOCATION:Flux 4.251
CATEGORIES:Education
ATTACH;FMTTYPE=image/png:https://ma-eir.nl/wp-content/uploads/2025/09/gmm.png
END:VEVENT
BEGIN:VEVENT
DTSTART;TZID=Europe/Paris:20251118T123000
DTEND;TZID=Europe/Paris:20251118T230000
DTSTAMP:20260420T071512
CREATED:20251106T123422Z
LAST-MODIFIED:20251117T132458Z
UID:1691-1763469000-1763506800@ma-eir.nl
SUMMARY:Eir member lunch
DESCRIPTION:  \nOn the 18th of November\, we will have another Eir Member lunch! Come catch up with fellow Eir members and talk about your current courses. \nIf you’re not a member (yet)\, you’re also very welcome\, but you will miss out on the member discount (€3  for non-members). \nHungry? Subscribe now and we’ll see you on the 18th!
URL:https://ma-eir.nl/activities/eir-member-lunch/
LOCATION:Master Associations Workplace\, Den Dolech 2\, Eindhoven\, Netherlands
END:VEVENT
BEGIN:VEVENT
DTSTART;TZID=Europe/Paris:20260226T124000
DTEND;TZID=Europe/Paris:20260226T132000
DTSTAMP:20260420T071512
CREATED:20260118T194739Z
LAST-MODIFIED:20260118T194916Z
UID:1706-1772109600-1772112000@ma-eir.nl
SUMMARY:PhD lunch lecture - pregnancy monitoring
DESCRIPTION:Discover how advanced sensing devices and signal processing improve care at the very beginning of life\n🗓️ February 26th 2026\n🕛 12:40 – 13:20\n📍 Colloquium (Flux ????)\n🍴 Free lunch included\nEir is organizing a lunch lecture featuring two PhD researchers from the Care & Cure domain\, who will share how biomedical measurements can be applied for maternal and neonatal healthcare. \nOur first presenter\, Irene Lensen\, will discuss her research on early detection of complications during pregnancy. By combining biomedical signals such as ECG\, EHG\, EEG\, and ultrasound\, she investigates the coupling between maternal and fetal cardiovascular systems. \nAfterwards\, Giulia Palladino will present her work on non-obtrusive monitoring of preterm infants. Using a fiber-optic pressure-sensitive mattress\, she studies movement patterns and respiration\, as well as the maturation trajectories of preterm infants through vital signs data. \nWhether you’re interested in medical engineering\, signal processing\, or healthcare innovation\, this lunch lecture offers a fascinating glimpse into how technology supports care for both mother and child!
URL:https://ma-eir.nl/activities/phd-lunch-lecture-pregnancy-monitoring/
CATEGORIES:Education
ATTACH;FMTTYPE=image/png:https://ma-eir.nl/wp-content/uploads/2026/01/PhD-lunch-lecture.png
END:VEVENT
END:VCALENDAR